BEGIN:VCALENDAR
VERSION:2.0
PRODID:-//ChamberMaster//Event Calendar 2.0//EN
METHOD:PUBLISH
X-PUBLISHED-TTL:P3D
REFRESH-INTERVAL:P3D
CALSCALE:GREGORIAN
BEGIN:VEVENT
DTSTART:20231116T220000Z
DTEND:20231117T010000Z
X-MICROSOFT-CDO-ALLDAYEVENT:FALSE
SUMMARY:Civil Design Advantage 20th Anniversary Celebration
DESCRIPTION:Please join the Urbandale Chamber in celebrating Civil Design Advantage's 20 Year Anniversary Ribbon Cutting!\n\n\n\nCivil Design Advantage (CDA)\, a multi-discipline firm specializing in Civil Engineering\, Landscape Architecture\, Land Planning\, and Surveying\, is celebrating our 20th year in business.
X-ALT-DESC;FMTTYPE=text/html:<span style="color: rgb(75\, 0\, 130)\; font-size: 20px\; font-weight: 700\;">Please join the Urbandale Chamber in celebrating Civil Design Advantage&#39\;s 20 Year Anniversary Ribbon Cutting!</span><br />\n<br />\nCivil Design Advantage (CDA)\, a multi-discipline firm specializing in Civil Engineering\, Landscape Architecture\, Land Planning\, and Surveying\, is celebrating our 20th year in business.<br />\n<br />\n&nbsp\;
LOCATION:Civil Design Advantage 4121 NW Urbandale Dr. Urbandale\, IA 50322
UID:e.1185.13235
SEQUENCE:3
DTSTAMP:20260421T210949Z
URL:http://business.uniquelyurbandale.com/events/details/civil-design-advantage-20th-anniversary-celebration-13235
END:VEVENT

END:VCALENDAR
