BEGIN:VCALENDAR
VERSION:2.0
PRODID:-//ChamberMaster//Event Calendar 2.0//EN
METHOD:PUBLISH
X-PUBLISHED-TTL:P3D
REFRESH-INTERVAL:P3D
CALSCALE:GREGORIAN
BEGIN:VEVENT
DTSTART;VALUE=DATE:20230619
DTEND;VALUE=DATE:20230625
TRANSP:TRANSPARENT
X-MICROSOFT-CDO-ALLDAYEVENT:TRUE
SUMMARY:Christopher's Fine Jewelry Estate Showcase
DESCRIPTION:Christopher's Fine Jewelry Estate Showcase Event\n\nJoin us June 19th through June 24th for our Estate Jewelry Showcase.\n\nOur Showcase will be featuring an extended inventory of one-of-a-kind estate jewelry only available during this special event!\n\n \n\nBook an appointment with us and our estate professionals will personally curate a shoppable collection of luxury estate goods just for you!
X-ALT-DESC;FMTTYPE=text/html:<h2><strong>&nbsp\;&nbsp\;&nbsp\;&nbsp\;</strong>&nbsp\;&nbsp\;&nbsp\;&nbsp\;&nbsp\;&nbsp\;&nbsp\;&nbsp\;<strong>Christopher&#39\;s Fine Jewelry Estate Showcase Event</strong></h2>\n\n<h2 style="text-align:center">Join us June 19th through June 24th for our Estate Jewelry Showcase.</h2>\n\n<h2 style="text-align:center">Our Showcase will be featuring an extended inventory of one-of-a-kind estate jewelry only available during this special event!</h2>\n\n<h2 style="text-align:center">&nbsp\;</h2>\n\n<h2 style="text-align:center">Book an appointment with us and our estate professionals will personally curate a shoppable collection of luxury estate goods just for you!</h2>\n\n<p style="text-align:center">&nbsp\;</p>\n
LOCATION:Christopher's Fine Jewelry 160 Jordan Creek Pkwy Suite 100 West Des Moines\, IA 50266
UID:e.1185.13064
SEQUENCE:3
DTSTAMP:20260422T074340Z
URL:http://business.uniquelyurbandale.com/events/details/christopher-s-fine-jewelry-estate-showcase-13064
END:VEVENT

END:VCALENDAR
