BEGIN:VCALENDAR
VERSION:2.0
PRODID:-//ChamberMaster//Event Calendar 2.0//EN
METHOD:PUBLISH
X-PUBLISHED-TTL:P3D
REFRESH-INTERVAL:P3D
CALSCALE:GREGORIAN
BEGIN:VEVENT
DTSTART:20241109T140000Z
DTEND:20241109T220000Z
X-MICROSOFT-CDO-ALLDAYEVENT:FALSE
SUMMARY:Christmas with a Cause
DESCRIPTION:What would it look like if we purchased gifts that helped support the most vulnerable in our world? It all began when a group of us asked the question\, "How can we best promote non-profit organizations that are working so hard to support and empower men\, women\, and children throughout the world?" We all know we will buy Christmas gifts for our family and friends. But what would it look like if the gifts that we purchased helped to support these organizations and people locally and globally? We have dozens of vendors from across the world and right here in Iowa! Their products are as varied as the non-profits they represent - from handbags and paintings\, coffee and baked goods\, pottery and wooden signage\, and more! Join us on Saturday\, November 9th from 8am to 4pm! Admission is free. Please note\, not all vendors accept credit cards.
X-ALT-DESC;FMTTYPE=text/html:What would it look like if we purchased gifts that helped support the most vulnerable in our world? It all began when a group of us asked the question\, &ldquo\;How can we best promote non-profit organizations that are working so hard to support and empower men\, women\, and children throughout the world?&rdquo\; We all know we will buy Christmas gifts for our family and friends. But what would it look like if the gifts that we purchased helped to support these organizations and people locally and globally? We have dozens of vendors from across the world and right here in Iowa! Their products are as varied as the non-profits they represent - from handbags and paintings\, coffee and baked goods\, pottery and wooden signage\, and more! Join us on Saturday\, November 9th from 8am to 4pm! Admission is free. Please note\, not all vendors accept credit cards.
LOCATION:Gloria Dei Lutheran Church 8301 Aurora Avenue Urbandale\, IA 50322
UID:e.1185.15631
SEQUENCE:3
DTSTAMP:20260420T235536Z
URL:http://business.uniquelyurbandale.com/events/details/christmas-with-a-cause-11-09-2024-15631
END:VEVENT

END:VCALENDAR
