BEGIN:VCALENDAR
VERSION:2.0
PRODID:-//ChamberMaster//Event Calendar 2.0//EN
METHOD:PUBLISH
X-PUBLISHED-TTL:P3D
REFRESH-INTERVAL:P3D
CALSCALE:GREGORIAN
BEGIN:VEVENT
DTSTART:20230718T164500Z
DTEND:20230718T174500Z
X-MICROSOFT-CDO-ALLDAYEVENT:FALSE
SUMMARY:Christmas in July Open House
DESCRIPTION:It is hard to believe\, but Christmas is fast approaching! Come by JP Party Rentals for a Christmas in July Open House and see our most popular winter rental items. These items include our arcades\, Christmas decor\, laser tag\, and more! We will provide pizza and EGGNOG!
X-ALT-DESC;FMTTYPE=text/html:It is hard to believe\, but Christmas is fast approaching! Come by JP Party Rentals for a Christmas in July Open House and see our most popular winter rental items. These items include our arcades\, Christmas decor\, laser tag\, and more! We will provide pizza and EGGNOG!&nbsp\;
LOCATION:JP Party Rentals Warehouse - 2302 SE Creekview Dr\, Suite 1\, Ankeny\, IA\, 50021
UID:e.1185.13113
SEQUENCE:3
DTSTAMP:20260422T060843Z
URL:http://business.uniquelyurbandale.com/events/details/christmas-in-july-open-house-13113
END:VEVENT

END:VCALENDAR
