BEGIN:VCALENDAR
VERSION:2.0
PRODID:-//ChamberMaster//Event Calendar 2.0//EN
METHOD:PUBLISH
X-PUBLISHED-TTL:P3D
REFRESH-INTERVAL:P3D
CALSCALE:GREGORIAN
BEGIN:VEVENT
DTSTART:20220630T210000Z
DTEND:20220701T010000Z
X-MICROSOFT-CDO-ALLDAYEVENT:FALSE
SUMMARY:Chamber Night at the Iowa Cubs
DESCRIPTION:You don't want to miss this annual event!  Come out to cheer on the I-Cubs while networking with others from all of the affiliate chambers across Central Iowa!  This is a great event for your entire team and their families to attend!\nYour Chamber Night ticket includes: \n\nPre-game tailgate party in the southwest corner of the north parking lot\; brats\, hot dogs\, chips\, dessert and soda on a first come first served basis.\nSeating is general admission. \n\n\n\nThis event is exclusive to Greater Des Moines Partnership and Affiliate Chamber Members only.\n\n\n\nTickets purchased after June 23 will be available at The Partnership's will-call tent located northeast of the Cub Club (north parking lot near the stadium).\n\n\n\nIf you need more than 15 tickets or have any questions\, please contact Lia Brown at lbrown@dsmpartnership.com or by phone (515) 286-4965. \n\n\n\n***ONLINE TICKET PURCHASE IS AVAILABLE UNTIL 3 P.M. ON JUNE 29TH***\n\n***REMAINING TICKETS CAN BE PURCHASED AT OUR WILL CALL TENT USING CREDIT CARD\, UNTIL THEY ARE GONE.***\n\n \nPURCHASE TICKETS HERE
X-ALT-DESC;FMTTYPE=text/html:<span style="font-size:14px\;"><span style="font-family:arial\;">You don&#39\;t want to miss this annual event!&nbsp\; Come out to cheer on the I-Cubs while networking with others from all of the affiliate chambers across Central Iowa!&nbsp\; This is a great event for your entire team and their families to attend!</span></span>\n<p style="box-sizing: content-box\; -webkit-tap-highlight-color: rgba(0\, 0\, 0\, 0)\; padding: 0px\; margin: 1em 0px\; font-size: 16px\; line-height: inherit\; color: rgb(38\, 38\, 38)\; inset: auto\; clear: none\; content: normal\; direction: inherit\; empty-cells: show\; float: none\; font-variant-numeric: inherit\; font-variant-east-asian: inherit\; font-stretch: inherit\; font-family: Montserrat\, sans-serif\; max-height: none\; max-width: none\; min-height: initial\; min-width: initial\; opacity: 1\; outline-offset: 0px\; overflow: visible\; position: static\; resize: none\; table-layout: auto\; text-overflow: clip\; vertical-align: baseline\; visibility: inherit\; word-break: inherit\; overflow-wrap: inherit\; z-index: auto\; background-image: none\; background-position: initial\; background-size: initial\; background-repeat: initial\; background-attachment: initial\; background-origin: initial\; background-clip: initial\; border-width: initial\; border-style: none\; border-color: initial\; border-collapse: separate\; border-image: none 100% 1 0 / 1 / 0 stretch\; border-radius: 0px\; height: auto\; width: auto\; box-shadow: none\;"><span style="font-size:14px\;"><span style="font-family:arial\;"><span style="box-sizing: content-box\; -webkit-tap-highlight-color: rgba(0\, 0\, 0\, 0)\; font-weight: bolder\; inset: auto\; clear: none\; color: inherit\; content: normal\; direction: inherit\; empty-cells: show\; font-style: inherit\; font-variant: inherit\; font-stretch: inherit\; letter-spacing: inherit\; line-height: inherit\; margin: 0px\; max-height: none\; max-width: none\; min-height: initial\; min-width: initial\; opacity: 1\; outline-offset: 0px\; overflow: visible\; padding: 0px\; position: static\; resize: none\; table-layout: auto\; text-align: inherit\; text-indent: inherit\; text-overflow: clip\; text-transform: inherit\; vertical-align: baseline\; visibility: inherit\; white-space: inherit\; word-break: inherit\; word-spacing: inherit\; overflow-wrap: inherit\; z-index: auto\; background: none\; border-width: initial\; border-style: none\; border-color: initial\; border-collapse: separate\; border-image: none 100% 1 0 / 1 / 0 stretch\; border-radius: 0px\; height: auto\; width: auto\; box-shadow: none\;">Your Chamber Night ticket includes:&nbsp\;</span><br style="box-sizing: content-box\; -webkit-tap-highlight-color: rgba(0\, 0\, 0\, 0)\; inset: auto\; clear: none\; color: inherit\; content: normal\; direction: inherit\; display: inline\; empty-cells: show\; float: none\; font: inherit\; letter-spacing: inherit\; margin: 0px\; max-height: none\; max-width: none\; min-height: initial\; min-width: initial\; opacity: 1\; outline-offset: 0px\; overflow: visible\; padding: 0px\; position: static\; resize: none\; table-layout: auto\; text-align: inherit\; text-indent: inherit\; text-overflow: clip\; text-transform: inherit\; vertical-align: baseline\; visibility: inherit\; white-space: inherit\; word-break: inherit\; word-spacing: inherit\; overflow-wrap: inherit\; z-index: auto\; background: none\; border-width: initial\; border-style: none\; border-color: initial\; border-collapse: separate\; border-image: none 100% 1 0 / 1 / 0 stretch\; border-radius: 0px\; height: auto\; width: auto\;" />\nPre-game tailgate party in the southwest corner of the north parking lot\;&nbsp\;brats\, hot dogs\, chips\, dessert&nbsp\;and soda on a first come first served basis.</span></span></p>\n<span style="font-size:14px\;"><span style="font-family:arial\;"><span style="color: rgb(38\, 38\, 38)\;">Seating is general admission.&nbsp\;</span><br style="box-sizing: content-box\; -webkit-tap-highlight-color: rgba(0\, 0\, 0\, 0)\; inset: auto\; clear: none\; color: rgb(38\, 38\, 38)\; content: normal\; direction: inherit\; display: inline\; empty-cells: show\; float: none\; font-variant-numeric: inherit\; font-variant-east-asian: inherit\; font-stretch: inherit\; font-size: 16px\; font-family: Montserrat\, sans-serif\; line-height: inherit\; margin: 0px\; max-height: none\; max-width: none\; min-height: initial\; min-width: initial\; opacity: 1\; outline-offset: 0px\; overflow: visible\; padding: 0px\; position: static\; resize: none\; table-layout: auto\; text-overflow: clip\; vertical-align: baseline\; visibility: inherit\; word-break: inherit\; overflow-wrap: inherit\; z-index: auto\; background-image: none\; background-position: initial\; background-size: initial\; background-repeat: initial\; background-attachment: initial\; background-origin: initial\; background-clip: initial\; border-width: initial\; border-style: none\; border-color: initial\; border-collapse: separate\; border-image: none 100% 1 0 / 1 / 0 stretch\; border-radius: 0px\; height: auto\; width: auto\;" />\n<br style="box-sizing: content-box\; -webkit-tap-highlight-color: rgba(0\, 0\, 0\, 0)\; inset: auto\; clear: none\; color: rgb(38\, 38\, 38)\; content: normal\; direction: inherit\; display: inline\; empty-cells: show\; float: none\; font-variant-numeric: inherit\; font-variant-east-asian: inherit\; font-stretch: inherit\; font-size: 16px\; font-family: Montserrat\, sans-serif\; line-height: inherit\; margin: 0px\; max-height: none\; max-width: none\; min-height: initial\; min-width: initial\; opacity: 1\; outline-offset: 0px\; overflow: visible\; padding: 0px\; position: static\; resize: none\; table-layout: auto\; text-overflow: clip\; vertical-align: baseline\; visibility: inherit\; word-break: inherit\; overflow-wrap: inherit\; z-index: auto\; background-image: none\; background-position: initial\; background-size: initial\; background-repeat: initial\; background-attachment: initial\; background-origin: initial\; background-clip: initial\; border-width: initial\; border-style: none\; border-color: initial\; border-collapse: separate\; border-image: none 100% 1 0 / 1 / 0 stretch\; border-radius: 0px\; height: auto\; width: auto\;" />\n<span style="color: rgb(38\, 38\, 38)\;">This event is exclusive to Greater Des Moines Partnership and Affiliate Chamber Members only.</span><br style="box-sizing: content-box\; -webkit-tap-highlight-color: rgba(0\, 0\, 0\, 0)\; inset: auto\; clear: none\; color: rgb(38\, 38\, 38)\; content: normal\; direction: inherit\; display: inline\; empty-cells: show\; float: none\; font-variant-numeric: inherit\; font-variant-east-asian: inherit\; font-stretch: inherit\; font-size: 16px\; font-family: Montserrat\, sans-serif\; line-height: inherit\; margin: 0px\; max-height: none\; max-width: none\; min-height: initial\; min-width: initial\; opacity: 1\; outline-offset: 0px\; overflow: visible\; padding: 0px\; position: static\; resize: none\; table-layout: auto\; text-overflow: clip\; vertical-align: baseline\; visibility: inherit\; word-break: inherit\; overflow-wrap: inherit\; z-index: auto\; background-image: none\; background-position: initial\; background-size: initial\; background-repeat: initial\; background-attachment: initial\; background-origin: initial\; background-clip: initial\; border-width: initial\; border-style: none\; border-color: initial\; border-collapse: separate\; border-image: none 100% 1 0 / 1 / 0 stretch\; border-radius: 0px\; height: auto\; width: auto\;" />\n<br style="box-sizing: content-box\; -webkit-tap-highlight-color: rgba(0\, 0\, 0\, 0)\; inset: auto\; clear: none\; color: rgb(38\, 38\, 38)\; content: normal\; direction: inherit\; display: inline\; empty-cells: show\; float: none\; font-variant-numeric: inherit\; font-variant-east-asian: inherit\; font-stretch: inherit\; font-size: 16px\; font-family: Montserrat\, sans-serif\; line-height: inherit\; margin: 0px\; max-height: none\; max-width: none\; min-height: initial\; min-width: initial\; opacity: 1\; outline-offset: 0px\; overflow: visible\; padding: 0px\; position: static\; resize: none\; table-layout: auto\; text-overflow: clip\; vertical-align: baseline\; visibility: inherit\; word-break: inherit\; overflow-wrap: inherit\; z-index: auto\; background-image: none\; background-position: initial\; background-size: initial\; background-repeat: initial\; background-attachment: initial\; background-origin: initial\; background-clip: initial\; border-width: initial\; border-style: none\; border-color: initial\; border-collapse: separate\; border-image: none 100% 1 0 / 1 / 0 stretch\; border-radius: 0px\; height: auto\; width: auto\;" />\n<span style="color: rgb(38\, 38\, 38)\;">Tickets purchased after June 23 will be available at The Partnership&#39\;s will-call tent located northeast of the Cub Club (north parking lot near the stadium).</span><br style="box-sizing: content-box\; -webkit-tap-highlight-color: rgba(0\, 0\, 0\, 0)\; inset: auto\; clear: none\; color: rgb(38\, 38\, 38)\; content: normal\; direction: inherit\; display: inline\; empty-cells: show\; float: none\; font-variant-numeric: inherit\; font-variant-east-asian: inherit\; font-stretch: inherit\; font-size: 16px\; font-family: Montserrat\, sans-serif\; line-height: inherit\; margin: 0px\; max-height: none\; max-width: none\; min-height: initial\; min-width: initial\; opacity: 1\; outline-offset: 0px\; overflow: visible\; padding: 0px\; position: static\; resize: none\; table-layout: auto\; text-overflow: clip\; vertical-align: baseline\; visibility: inherit\; word-break: inherit\; overflow-wrap: inherit\; z-index: auto\; background-image: none\; background-position: initial\; background-size: initial\; background-repeat: initial\; background-attachment: initial\; background-origin: initial\; background-clip: initial\; border-width: initial\; border-style: none\; border-color: initial\; border-collapse: separate\; border-image: none 100% 1 0 / 1 / 0 stretch\; border-radius: 0px\; height: auto\; width: auto\;" />\n<br style="box-sizing: content-box\; -webkit-tap-highlight-color: rgba(0\, 0\, 0\, 0)\; inset: auto\; clear: none\; color: rgb(38\, 38\, 38)\; content: normal\; direction: inherit\; display: inline\; empty-cells: show\; float: none\; font-variant-numeric: inherit\; font-variant-east-asian: inherit\; font-stretch: inherit\; font-size: 16px\; font-family: Montserrat\, sans-serif\; line-height: inherit\; margin: 0px\; max-height: none\; max-width: none\; min-height: initial\; min-width: initial\; opacity: 1\; outline-offset: 0px\; overflow: visible\; padding: 0px\; position: static\; resize: none\; table-layout: auto\; text-overflow: clip\; vertical-align: baseline\; visibility: inherit\; word-break: inherit\; overflow-wrap: inherit\; z-index: auto\; background-image: none\; background-position: initial\; background-size: initial\; background-repeat: initial\; background-attachment: initial\; background-origin: initial\; background-clip: initial\; border-width: initial\; border-style: none\; border-color: initial\; border-collapse: separate\; border-image: none 100% 1 0 / 1 / 0 stretch\; border-radius: 0px\; height: auto\; width: auto\;" />\n<span style="color: rgb(38\, 38\, 38)\;">If you need more than 15 tickets or have any questions\, please contact Lia Brown at lbrown@dsmpartnership.com or by phone (515) 286-4965.&nbsp\;</span><br style="box-sizing: content-box\; -webkit-tap-highlight-color: rgba(0\, 0\, 0\, 0)\; inset: auto\; clear: none\; color: rgb(38\, 38\, 38)\; content: normal\; direction: inherit\; display: inline\; empty-cells: show\; float: none\; font-variant-numeric: inherit\; font-variant-east-asian: inherit\; font-stretch: inherit\; font-size: 16px\; font-family: Montserrat\, sans-serif\; line-height: inherit\; margin: 0px\; max-height: none\; max-width: none\; min-height: initial\; min-width: initial\; opacity: 1\; outline-offset: 0px\; overflow: visible\; padding: 0px\; position: static\; resize: none\; table-layout: auto\; text-overflow: clip\; vertical-align: baseline\; visibility: inherit\; word-break: inherit\; overflow-wrap: inherit\; z-index: auto\; background-image: none\; background-position: initial\; background-size: initial\; background-repeat: initial\; background-attachment: initial\; background-origin: initial\; background-clip: initial\; border-width: initial\; border-style: none\; border-color: initial\; border-collapse: separate\; border-image: none 100% 1 0 / 1 / 0 stretch\; border-radius: 0px\; height: auto\; width: auto\;" />\n<br style="box-sizing: content-box\; -webkit-tap-highlight-color: rgba(0\, 0\, 0\, 0)\; inset: auto\; clear: none\; color: rgb(38\, 38\, 38)\; content: normal\; direction: inherit\; display: inline\; empty-cells: show\; float: none\; font-variant-numeric: inherit\; font-variant-east-asian: inherit\; font-stretch: inherit\; font-size: 16px\; font-family: Montserrat\, sans-serif\; line-height: inherit\; margin: 0px\; max-height: none\; max-width: none\; min-height: initial\; min-width: initial\; opacity: 1\; outline-offset: 0px\; overflow: visible\; padding: 0px\; position: static\; resize: none\; table-layout: auto\; text-overflow: clip\; vertical-align: baseline\; visibility: inherit\; word-break: inherit\; overflow-wrap: inherit\; z-index: auto\; background-image: none\; background-position: initial\; background-size: initial\; background-repeat: initial\; background-attachment: initial\; background-origin: initial\; background-clip: initial\; border-width: initial\; border-style: none\; border-color: initial\; border-collapse: separate\; border-image: none 100% 1 0 / 1 / 0 stretch\; border-radius: 0px\; height: auto\; width: auto\;" />\n<span style="box-sizing: content-box\; -webkit-tap-highlight-color: rgba(0\, 0\, 0\, 0)\; font-weight: bolder\; inset: auto\; clear: none\; color: rgb(38\, 38\, 38)\; content: normal\; direction: inherit\; empty-cells: show\; font-variant-numeric: inherit\; font-variant-east-asian: inherit\; font-stretch: inherit\; line-height: inherit\; margin: 0px\; max-height: none\; max-width: none\; min-height: initial\; min-width: initial\; opacity: 1\; outline-offset: 0px\; overflow: visible\; padding: 0px\; position: static\; resize: none\; table-layout: auto\; text-overflow: clip\; vertical-align: baseline\; visibility: inherit\; word-break: inherit\; overflow-wrap: inherit\; z-index: auto\; background-image: none\; background-position: initial\; background-size: initial\; background-repeat: initial\; background-attachment: initial\; background-origin: initial\; background-clip: initial\; border-width: initial\; border-style: none\; border-color: initial\; border-collapse: separate\; border-image: none 100% 1 0 / 1 / 0 stretch\; border-radius: 0px\; height: auto\; width: auto\; box-shadow: none\;">***ONLINE TICKET PURCHASE IS AVAILABLE UNTIL 3 P.M. ON JUNE 29TH***<br style="box-sizing: content-box\; -webkit-tap-highlight-color: rgba(0\, 0\, 0\, 0)\; inset: auto\; clear: none\; color: inherit\; content: normal\; direction: inherit\; display: inline\; empty-cells: show\; float: none\; font: inherit\; letter-spacing: inherit\; margin: 0px\; max-height: none\; max-width: none\; min-height: initial\; min-width: initial\; opacity: 1\; outline-offset: 0px\; overflow: visible\; padding: 0px\; position: static\; resize: none\; table-layout: auto\; text-align: inherit\; text-indent: inherit\; text-overflow: clip\; text-transform: inherit\; vertical-align: baseline\; visibility: inherit\; white-space: inherit\; word-break: inherit\; word-spacing: inherit\; overflow-wrap: inherit\; z-index: auto\; background: none\; border-width: initial\; border-style: none\; border-color: initial\; border-collapse: separate\; border-image: none 100% 1 0 / 1 / 0 stretch\; border-radius: 0px\; height: auto\; width: auto\;" />\n***REMAINING TICKETS CAN BE PURCHASED AT OUR WILL CALL TENT USING CREDIT CARD\, UNTIL THEY ARE GONE.***</span></span></span><br />\n&nbsp\;\n<div><span style="font-size:24px\;"><span style="font-family:arial\;"><span style="box-sizing: content-box\; -webkit-tap-highlight-color: rgba(0\, 0\, 0\, 0)\; font-weight: bolder\; inset: auto\; clear: none\; content: normal\; direction: inherit\; empty-cells: show\; font-variant-numeric: inherit\; font-variant-east-asian: inherit\; font-stretch: inherit\; line-height: inherit\; margin: 0px\; max-height: none\; max-width: none\; min-height: initial\; min-width: initial\; opacity: 1\; outline-offset: 0px\; overflow: visible\; padding: 0px\; position: static\; resize: none\; table-layout: auto\; text-overflow: clip\; vertical-align: baseline\; visibility: inherit\; word-break: inherit\; overflow-wrap: inherit\; z-index: auto\; background-image: none\; background-position: initial\; background-size: initial\; background-repeat: initial\; background-attachment: initial\; background-origin: initial\; background-clip: initial\; border-width: initial\; border-style: none\; border-color: initial\; border-collapse: separate\; border-image: none 100% 1 0 / 1 / 0 stretch\; border-radius: 0px\; height: auto\; width: auto\; box-shadow: none\;"><a href="https://members.dsmpartnership.com/events/details/2022-chamber-night-with-the-iowa-cubs-06-30-2022-60029"><span style="color:#FF0000\;">PURCHASE TICKETS HERE</span></a></span></span></span></div>\n
LOCATION:Principal Park - Des Moines\, Iowa
UID:e.1185.12548
SEQUENCE:3
DTSTAMP:20260423T012356Z
URL:http://business.uniquelyurbandale.com/events/details/chamber-night-at-the-iowa-cubs-12548
END:VEVENT

END:VCALENDAR
