BEGIN:VCALENDAR
VERSION:2.0
PRODID:-//ChamberMaster//Event Calendar 2.0//EN
METHOD:PUBLISH
X-PUBLISHED-TTL:P3D
REFRESH-INTERVAL:P3D
CALSCALE:GREGORIAN
BEGIN:VEVENT
DTSTART:20240222T173000Z
DTEND:20240222T190000Z
X-MICROSOFT-CDO-ALLDAYEVENT:FALSE
SUMMARY:Chamber Exclusive Program Lunch & Learn
DESCRIPTION:The Urbandale Chamber of Commerce\, powering the Windsor Heights Chamber\, works hard to deliver benefits to save members money\, time and provides a strong value.  \n\n\n\nCome learn more about two of our Chamber Exclusive Benefits on February 22nd from 11:30 - 1 p.m. (lunch provided).
X-ALT-DESC;FMTTYPE=text/html:The Urbandale Chamber of Commerce\, powering the Windsor Heights Chamber\, works hard to deliver benefits to save members money\, time and provides a strong value.&nbsp\;&nbsp\;<br />\n<br />\nCome learn more about two of our Chamber Exclusive Benefits on February 22nd from 11:30 - 1 p.m. (lunch provided).&nbsp\;&nbsp\;
LOCATION:Aisha R. Syed Board Room Iowa Realty | Realtor Urbandale Chamber of Commerce 2830 100th St.\, Ste. 110 Urbandale\, IA 50322
UID:e.1185.14975
SEQUENCE:3
DTSTAMP:20260421T165309Z
URL:http://business.uniquelyurbandale.com/events/details/chamber-exclusive-program-lunch-learn-14975
END:VEVENT

END:VCALENDAR
