BEGIN:VCALENDAR
VERSION:2.0
PRODID:-//ChamberMaster//Event Calendar 2.0//EN
METHOD:PUBLISH
X-PUBLISHED-TTL:P3D
REFRESH-INTERVAL:P3D
CALSCALE:GREGORIAN
BEGIN:VEVENT
DTSTART:20230915T133000Z
DTEND:20230915T141500Z
X-MICROSOFT-CDO-ALLDAYEVENT:FALSE
SUMMARY:Chamber Exclusive Informational Session | Midwest Pano
DESCRIPTION:Learn more about the Chamber Exclusive Benefit with Midwest Pano!\n\n\n\nLooking to showcase your space and boost your digital marketing? Custom virtual tours are the accessible and interactive marketing asset you've been needing.\n\n\n\nWe've partnered with Midwest Pano to offer an exclusive virtual tour of Urbandale & Windsor Heights Chamber members.\n\n\n\nThe Urbandale Chamber Exclusive Program will provide members\n\nwith exclusive discounts including 25% off panoramic images!\n\n \nWhy get a virtual tour?\n\n  They enhance your Google Business Profile and boost your SEO.\n\n  They're a great way to engage with your customers before they even arrive. Let\n\nthem see all you have to offer!\n\n  Midwest Pano virtual tours are easy to embed on your website and easy to share\n\non social media or almost anywhere else!\n\n  Your virtual tour can be added to our member-exclusive directory of virtual tours!\n\nIt's a great way to help us help you!\n\nWhy Midwest Pano?\n\n  Their photographers are Google-certified\, experienced\, and award-winning. Their\n\nowner\, Vince Sabatino\, has been doing virtual tours for over 50 industries across\n\nthe nation for over 14 years. Their team is dedicated to showcasing your\n\nbusiness in its best light!\n\n\n\nWe have invited the team in for members to learn more about the photos and why panoramic photos are an important marketing enhancement for your SEO and for your customer experience.
X-ALT-DESC;FMTTYPE=text/html:<span style="font-size:14px\;"><span style="font-family:verdana\;"><strong>Learn more about the Chamber Exclusive Benefit with Midwest Pano!</strong><br />\n<br />\nLooking to showcase your space and boost your digital marketing? Custom virtual tours&nbsp\;are the accessible and interactive marketing asset you&rsquo\;ve been needing.<br />\n<br />\nWe&rsquo\;ve&nbsp\;partnered with Midwest Pano to offer an exclusive virtual tour of Urbandale &amp\; Windsor Heights&nbsp\;Chamber members.<br />\n<br />\n<strong>The Urbandale Chamber Exclusive Program will provide members<br font-size:="" open="" style="box-sizing: border-box\; font-family: " />\nwith exclusive discounts including 25% off panoramic images!</strong></span></span><br />\n&nbsp\;\n<p style="box-sizing: border-box\; margin: 0px\; padding: 0px 0px 1em\; border: 0px\; outline: 0px\; font-size: 15px\; text-size-adjust: 100%\; vertical-align: baseline\; background-image: initial\; background-position: initial\; background-size: initial\; background-repeat: initial\; background-attachment: initial\; background-origin: initial\; background-clip: initial\; font-family: &quot\;Open Sans&quot\;\, Arial\, sans-serif\;"><strong style="box-sizing: border-box\; margin: 0px\; padding: 0px\; border: 0px\; outline: 0px\; text-size-adjust: 100%\; vertical-align: baseline\; background: transparent\;">Why get a virtual tour?</strong><br style="box-sizing: border-box\;" />\n&#9679\; They enhance your Google Business Profile and boost your SEO.<br style="box-sizing: border-box\;" />\n&#9679\; They&rsquo\;re a great way to engage with your customers before they even arrive. Let<br style="box-sizing: border-box\;" />\nthem see all you have to offer!<br style="box-sizing: border-box\;" />\n&#9679\; Midwest Pano virtual tours are easy to embed on your website and easy to share<br style="box-sizing: border-box\;" />\non social media or almost anywhere else!<br style="box-sizing: border-box\;" />\n&#9679\; Your virtual tour can be added to our member-exclusive directory of virtual tours!<br style="box-sizing: border-box\;" />\nIt&rsquo\;s a great way to help us help you!</p>\n\n<p style="box-sizing: border-box\; margin: 0px\; padding: 0px\; border: 0px\; outline: 0px\; font-size: 15px\; text-size-adjust: 100%\; vertical-align: baseline\; background-image: initial\; background-position: initial\; background-size: initial\; background-repeat: initial\; background-attachment: initial\; background-origin: initial\; background-clip: initial\; font-family: &quot\;Open Sans&quot\;\, Arial\, sans-serif\;"><strong style="box-sizing: border-box\; margin: 0px\; padding: 0px\; border: 0px\; outline: 0px\; text-size-adjust: 100%\; vertical-align: baseline\; background: transparent\;">Why Midwest Pano?</strong><br style="box-sizing: border-box\;" />\n&#9679\; Their photographers are Google-certified\, experienced\, and award-winning. Their<br style="box-sizing: border-box\;" />\nowner\, Vince Sabatino\, has been doing virtual tours for over 50 industries across<br style="box-sizing: border-box\;" />\nthe nation for over 14 years. Their team is dedicated to showcasing your<br style="box-sizing: border-box\;" />\nbusiness in its best light!<br />\n<br />\nWe have invited the team in for members to learn more about the photos and why panoramic photos are an important marketing enhancement for your SEO and for your customer experience.</p>\n
LOCATION:Aisha R. Syed Board Room Realtor | Iowa Realty 2830 100th St.\, Ste. 110 Urbandale\, IA 50322 and Virtual
UID:e.1185.13124
SEQUENCE:3
DTSTAMP:20260422T002845Z
URL:http://business.uniquelyurbandale.com/events/details/chamber-exclusive-informational-session-midwest-pano-13124
END:VEVENT

END:VCALENDAR
