BEGIN:VCALENDAR
VERSION:2.0
PRODID:-//ChamberMaster//Event Calendar 2.0//EN
METHOD:PUBLISH
X-PUBLISHED-TTL:P3D
REFRESH-INTERVAL:P3D
CALSCALE:GREGORIAN
BEGIN:VEVENT
DTSTART:20240917T130000Z
DTEND:20240917T140000Z
X-MICROSOFT-CDO-ALLDAYEVENT:FALSE
SUMMARY:Chamber Exclusive Credit Card Benefit | Informational Session
DESCRIPTION:Come learn more about the newest Urbandale Chamber Exclusive Benefit\, discounted credit card processing through U.S. Bank.\nThe Chamber is dedicated to helping its members save both time and money.  This commitment led to the development of the Chamber Exclusive Benefit Program. \n\n\n\nWhether a company conducts business online\, in-person\, or on the go\, U.S. Bank ensures that accepting credit and debit card payments is quick\, easy\, and secure. Beyond being a payment processor\, U.S. Bank's solutions can help increase sales\, improve business operations\, and control business costs.\n\n\n\nMembers will have the capability to accept all payment types\, anytime\, and anywhere. Whether a business operates on the go\, online\, in-person\, by phone\, or by mail\, members can accept credit\, debit\, and digital wallet payments.\n\n\n\nMoreover\, members will benefit from fast payment processing. Recognizing the importance of cash flow\, U.S. Bank's technology offers options that enhance cash flow\, with funding available from standard timelines to within hours\, including weekends and holidays.\n\n\n\nTo learn more\, members are encouraged to attend the informational session scheduled for September 17 from 8-9 a.m. at the Chamber office. Register today!
X-ALT-DESC;FMTTYPE=text/html:<h2><span style="color:#0000FF\;"><span style="font-size:14px\;"><span style="font-family:verdana\;">Come learn more about the newest Urbandale Chamber Exclusive Benefit\, discounted credit card processing through U.S. Bank.</span></span></span></h2>\n<span style="font-size:14px\;"><span style="font-family:verdana\;">The Chamber is dedicated to helping its members save both time and money.&nbsp\; This commitment led to the development of the Chamber Exclusive Benefit Program.&nbsp\;<br />\n<br />\nWhether a company conducts business online\, in-person\, or on the go\, U.S. Bank ensures that accepting credit and debit card payments is quick\, easy\, and secure. Beyond being a payment processor\, U.S. Bank&rsquo\;s solutions can help increase sales\, improve business operations\, and control business costs.<br />\n<br />\nMembers will have the capability to accept all payment types\, anytime\, and anywhere. Whether a business operates on the go\, online\, in-person\, by phone\, or by mail\, members can accept credit\, debit\, and digital wallet payments.<br />\n<br />\nMoreover\, members will benefit from fast payment processing. Recognizing the importance of cash flow\, U.S. Bank&rsquo\;s technology offers options that enhance cash flow\, with funding available from standard timelines to within hours\, including weekends and holidays.<br />\n<br />\nTo learn more\, members are encouraged to attend the informational session scheduled for September 17 from 8-9 a.m. at the Chamber office. Register today!</span></span>
LOCATION:Urbandale Chamber of Commerce 2830 100th St.\, Ste. 110 Urbandale\, IA 50322
UID:e.1185.15659
SEQUENCE:3
DTSTAMP:20260421T090034Z
URL:http://business.uniquelyurbandale.com/events/details/chamber-exclusive-credit-card-benefit-informational-session-15659
END:VEVENT

END:VCALENDAR
