BEGIN:VCALENDAR
VERSION:2.0
PRODID:-//ChamberMaster//Event Calendar 2.0//EN
METHOD:PUBLISH
X-PUBLISHED-TTL:P3D
REFRESH-INTERVAL:P3D
CALSCALE:GREGORIAN
BEGIN:VEVENT
DTSTART:20230412T163000Z
DTEND:20230412T173000Z
X-MICROSOFT-CDO-ALLDAYEVENT:FALSE
SUMMARY:Chamber Exclusive Benefits Session
DESCRIPTION:It is the Urbandale Chamber's business to help your business! \nOne of the ways we help business is to strategically partner with area companies to SAVE our members TIME and MONEY!  Who couldn't use more of both! \n\n \n\nBy participating in our Members Only Chamber Exclusives Program\, Urbandale Chamber membership goes beyond the strong networking and marketing benefits provided\, to directly impacting the bottom line for our members. \n\n\n\nJoin us as we provide information on how you can benefit from two of our Chamber Exclusives HR benefits.  We have invited representatives from Paychex and RockWay Wealth Partners to provide information on how moving to a PEO and utilizing the Chamber's 401k group retirement plan may save members time\, money and reduce employer liability.  \n\n \nUrbandale Chamber PEO Program\n\nHuman Resources (HR) can be one of the most difficult pieces of running a small business.  The next piece includes benefit management\, including health care.  We've partnered with Paychex HR to offer an attractive HR solution for Urbandale Chamber members.  The Urbandale Chamber Exclusive Program will provide members with Exclusive Preferred Pricing with Paychex HR\, saving at least 10%!\n\nWhy consider a PEO?\n\n\n	78% of business leaders spend over 10 hours per week on HR duties\n	According to the National Association of Professional Employer Organizations (NAPEO)\, businesses working with a PEO save up to $1\,775 per employee per year in HR costs.\n	In today's business climate\, a strong framework is needed for Employee Well-being and Business Health.  This PEO Partnership enhances a business' ability to Attract/Retain Top Talent\, Mitigate Risk\, Gain Efficiency\, and Offer World-Class Benefits. \n	Paychex has been named\n	\n		the Best PEO for mid-sized businesses by Business News Daily\n		Best HR Outsourcing for small business overall by Inc.com\n		On February 1\, 2023\, Paychex was again named one of the World's Most Admired Companies by FORTUNE magazine\n		Paychex is a National company with more than 100 local employees out of their West Des Moines Office.\n	\n	\n\n\n\n\n\nUrbandale Chamber Group 401K Program\n\nIf you have an existing 401k or looking to start one\, this is for you! Employers looking to hire & retain great employees provide great benefits important to those employees. One important benefit is to provide retirement savings options\, such as a 401k.  We've partnered with RockWay Wealth Partners\, Voya\, and Qualified Plan Consultants to offer an attractive 401k & Profit Sharing Retirement Plan solution exclusively for Urbandale Chamber members.  This Urbandale Chamber Exclusive Program can provide a great customized plan design that can help save cost and help relieve members of certain fiduciary DOL/IRS responsibilities and risks!\n\n\n\nLearn More during our informational sessions scheduled April 12th from 11:30 - 12:30 p.m.  Lunch is included.  Registration is requested.
X-ALT-DESC;FMTTYPE=text/html:<h1><span style="font-size: 18px\;"><span style="color: rgb(0\, 0\, 255)\;"><span style="font-family: verdana\;"><strong>It is the Urbandale Chamber&rsquo\;s business to help your business!&nbsp\;</strong></span></span></span></h1>\n<span style="font-family: verdana\;"><span style="font-size: 14px\;"><span style="background-image: initial\; background-position: initial\; background-size: initial\; background-repeat: initial\; background-attachment: initial\; background-origin: initial\; background-clip: initial\;">One of the ways we help business is to strategically partner with area companies to&nbsp\;<strong>SAVE&nbsp\;</strong>our members&nbsp\;<strong>TIME&nbsp\;</strong>and&nbsp\;<strong>MONEY</strong>!&nbsp\;&nbsp\;<strong>Who couldn&rsquo\;t use more of both!&nbsp\;</strong></span><br />\n&nbsp\;<br />\n<span style="background-image: initial\; background-position: initial\; background-size: initial\; background-repeat: initial\; background-attachment: initial\; background-origin: initial\; background-clip: initial\;">By participating in our&nbsp\;<a href="https://uniquelyurbandale.com/urbandale-chamber-exclusives/"><span style="color: rgb(0\, 0\, 255)\;">Members Only Chamber Exclusives Program</span></a>\, Urbandale Chamber membership goes beyond the strong networking and marketing benefits provided\, to directly impacting the bottom line for our members.&nbsp\;</span><br />\n<br />\n<span style="background-image: initial\; background-position: initial\; background-size: initial\; background-repeat: initial\; background-attachment: initial\; background-origin: initial\; background-clip: initial\;">Join us as we provide information on how you can benefit from two of our Chamber Exclusives HR benefits.&nbsp\; We have invited representatives from&nbsp\;<a href="https://businesses.uniquelyurbandale.com/list/member/paychex-hr-5767"><span style="color: rgb(0\, 0\, 255)\;">Paychex</span>&nbsp\;</a>and&nbsp\;<a href="https://businesses.uniquelyurbandale.com/list/member/rockway-wealth-partners-4553"><span style="color: rgb(0\, 0\, 255)\;">RockWay Wealth&nbsp\;</span></a></span><a href="https://businesses.uniquelyurbandale.com/list/member/rockway-wealth-partners-4553"><span style="color: rgb(0\, 0\, 255)\;"><span style="background-image: initial\; background-position: initial\; background-size: initial\; background-repeat: initial\; background-attachment: initial\; background-origin: initial\; background-clip: initial\;">Partners</span></span></a><span style="background-image: initial\; background-position: initial\; background-size: initial\; background-repeat: initial\; background-attachment: initial\; background-origin: initial\; background-clip: initial\;">&nbsp\;to provide information on how moving to a PEO and&nbsp\;</span><span style="background-image: initial\; background-position: initial\; background-size: initial\; background-repeat: initial\; background-attachment: initial\; background-origin: initial\; background-clip: initial\;"><span style="color: black\;">utilizing</span></span><span style="background-image: initial\; background-position: initial\; background-size: initial\; background-repeat: initial\; background-attachment: initial\; background-origin: initial\; background-clip: initial\;">&nbsp\;the Chamber&#39\;s 401</span><span style="background-image: initial\; background-position: initial\; background-size: initial\; background-repeat: initial\; background-attachment: initial\; background-origin: initial\; background-clip: initial\;"><span style="color: black\;">k</span></span><span style="background-image: initial\; background-position: initial\; background-size: initial\; background-repeat: initial\; background-attachment: initial\; background-origin: initial\; background-clip: initial\;">&nbsp\;group</span><span style="background-image: initial\; background-position: initial\; background-size: initial\; background-repeat: initial\; background-attachment: initial\; background-origin: initial\; background-clip: initial\;"><span style="color: black\;">&nbsp\;retirement</span>&nbsp\;plan may save members time\, money and reduce employer liability.&nbsp\;&nbsp\;</span></span></span><br />\n&nbsp\;\n<h3 style="font-weight: bold\; line-height: 1.2em\; box-sizing: border-box\; margin: 0px\; padding: 0px 0px 10px\; border: 0px\; outline: 0px\; font-size: 22px\; text-size-adjust: 100%\; vertical-align: baseline\; background-image: initial\; background-position: initial\; background-size: initial\; background-repeat: initial\; background-attachment: initial\; background-origin: initial\; background-clip: initial\; color: rgb(0\, 40\, 85)\; font-family: Montserrat\, Helvetica\, Arial\, Lucida\, sans-serif\;"><span style="font-family: verdana\;"><span style="font-size: 14px\;"><strong style="box-sizing: border-box\; margin: 0px\; padding: 0px\; border: 0px\; outline: 0px\; text-size-adjust: 100%\; vertical-align: baseline\; background: transparent\;">Urbandale Chamber PEO Program</strong></span></span></h3>\n\n<p open="" style="box-sizing: border-box\; margin: 0px\; padding: 0px 0px 1em\; border: 0px\; outline: 0px\; font-size: 15px\; text-size-adjust: 100%\; vertical-align: baseline\; background-image: initial\; background-position: initial\; background-size: initial\; background-repeat: initial\; background-attachment: initial\; background-origin: initial\; background-clip: initial\;"><span style="font-family: verdana\;"><span style="font-size: 14px\;">Human Resources (HR) can be one of the most difficult pieces of running a small business.&nbsp\; The next piece includes benefit management\, including health care.&nbsp\; We&rsquo\;ve partnered with Paychex HR to offer an attractive HR solution for Urbandale Chamber members.&nbsp\; The Urbandale Chamber Exclusive Program will provide members with Exclusive Preferred Pricing with Paychex HR\, saving at least 10%!</span></span></p>\n\n<p open="" style="box-sizing: border-box\; margin: 0px\; padding: 0px\; border: 0px\; outline: 0px\; font-size: 15px\; text-size-adjust: 100%\; vertical-align: baseline\; background-image: initial\; background-position: initial\; background-size: initial\; background-repeat: initial\; background-attachment: initial\; background-origin: initial\; background-clip: initial\;"><span style="font-family: verdana\;"><span style="font-size: 14px\;"><strong style="box-sizing: border-box\; margin: 0px\; padding: 0px\; border: 0px\; outline: 0px\; text-size-adjust: 100%\; vertical-align: baseline\; background: transparent\;">Why consider a PEO?</strong></span></span></p>\n\n<ul open="" style="padding-right: 0px\; padding-bottom: 1em\; padding-left: 1em\; box-sizing: border-box\; margin: 0px\; border: 0px\; outline: 0px\; font-size: 15px\; text-size-adjust: 100%\; vertical-align: baseline\; background-image: initial\; background-position: initial\; background-size: initial\; background-repeat: initial\; background-attachment: initial\; background-origin: initial\; background-clip: initial\; list-style-position: initial\; list-style-image: initial\; line-height: 26px\;">\n	<li style="box-sizing: border-box\; margin: 0px\; padding: 0px\; border: 0px\; outline: 0px\; text-size-adjust: 100%\; vertical-align: baseline\; background: transparent\;"><span style="font-family: verdana\;"><span style="font-size: 14px\;">78% of business leaders spend over 10 hours per week on HR duties</span></span></li>\n	<li style="box-sizing: border-box\; margin: 0px\; padding: 0px\; border: 0px\; outline: 0px\; text-size-adjust: 100%\; vertical-align: baseline\; background: transparent\;"><span style="font-family: verdana\;"><span style="font-size: 14px\;">According to the National Association of Professional Employer Organizations (NAPEO)\, businesses working with a PEO save up to $1\,775 per employee per year in HR costs.</span></span></li>\n	<li style="box-sizing: border-box\; margin: 0px\; padding: 0px\; border: 0px\; outline: 0px\; text-size-adjust: 100%\; vertical-align: baseline\; background: transparent\;"><span style="font-family: verdana\;"><span style="font-size: 14px\;">In today&rsquo\;s business climate\, a strong framework is needed for Employee Well-being and Business Health.&nbsp\; This PEO Partnership enhances a business&rsquo\; ability to Attract/Retain Top Talent\, Mitigate Risk\, Gain Efficiency\, and Offer World-Class Benefits.&#8203\;</span></span></li>\n	<li style="box-sizing: border-box\; margin: 0px\; padding: 0px\; border: 0px\; outline: 0px\; text-size-adjust: 100%\; vertical-align: baseline\; background: transparent\;"><span style="font-family: verdana\;"><span style="font-size: 14px\;"><strong style="box-sizing: border-box\; margin: 0px\; padding: 0px\; border: 0px\; outline: 0px\; text-size-adjust: 100%\; vertical-align: baseline\; background: transparent\;">Paychex has been named</strong></span></span>\n	<ul style="padding-right: 0px\; padding-bottom: 1em\; padding-left: 1em\; box-sizing: border-box\; margin: 0px\; border: 0px\; outline: 0px\; text-size-adjust: 100%\; vertical-align: baseline\; background: transparent\; list-style: disc\; line-height: 26px\;">\n		<li style="box-sizing: border-box\; margin: 0px\; padding: 0px\; border: 0px\; outline: 0px\; text-size-adjust: 100%\; vertical-align: baseline\; background: transparent\;"><span style="font-family: verdana\;"><span style="font-size: 14px\;">the&nbsp\;Best PEO for mid-sized businesses&nbsp\;by&nbsp\;<em style="box-sizing: border-box\; margin: 0px\; padding: 0px\; border: 0px\; outline: 0px\; text-size-adjust: 100%\; vertical-align: baseline\; background: transparent\;">Business News Daily</em></span></span></li>\n		<li style="box-sizing: border-box\; margin: 0px\; padding: 0px\; border: 0px\; outline: 0px\; text-size-adjust: 100%\; vertical-align: baseline\; background: transparent\;"><span style="font-family: verdana\;"><span style="font-size: 14px\;">Best&nbsp\;HR Outsourcing for small business overall&nbsp\;by&nbsp\;<em style="box-sizing: border-box\; margin: 0px\; padding: 0px\; border: 0px\; outline: 0px\; text-size-adjust: 100%\; vertical-align: baseline\; background: transparent\;">Inc.com</em></span></span></li>\n		<li style="box-sizing: border-box\; margin: 0px\; padding: 0px\; border: 0px\; outline: 0px\; text-size-adjust: 100%\; vertical-align: baseline\; background: transparent\;"><span style="font-family: verdana\;"><span style="font-size: 14px\;">On February 1\, 2023\, Paychex was again named one of the&nbsp\;World&rsquo\;s Most Admired Companies&nbsp\;by&nbsp\;<em style="box-sizing: border-box\; margin: 0px\; padding: 0px\; border: 0px\; outline: 0px\; text-size-adjust: 100%\; vertical-align: baseline\; background: transparent\;">FORTUNE</em>&nbsp\;magazine</span></span></li>\n		<li style="box-sizing: border-box\; margin: 0px\; padding: 0px\; border: 0px\; outline: 0px\; text-size-adjust: 100%\; vertical-align: baseline\; background: transparent\;"><span style="font-family: verdana\;"><span style="font-size: 14px\;">Paychex is a National company with more than 100 local employees out of their West Des Moines Office.</span></span></li>\n	</ul>\n	</li>\n</ul>\n\n<div style="box-sizing: border-box\; margin: 0px\; padding: 0px\; border: 0px\; outline: 0px\; text-size-adjust: 100%\; vertical-align: baseline\; background: transparent\;">\n<div class="et_pb_module et_pb_text et_pb_text_2  et_pb_text_align_left et_pb_bg_layout_light" open="" style="box-sizing: border-box\; margin: 0px\; padding: 0px\; border: 0px\; outline: 0px\; font-size: 15px\; text-size-adjust: 100%\; vertical-align: baseline\; background-image: initial\; background-position: center center\; background-size: cover\; background-repeat: no-repeat\; background-attachment: initial\; background-origin: initial\; background-clip: initial\; overflow-wrap: break-word\; animation-timing-function: linear\; animation-duration: 200ms\;">\n<div class="et_pb_text_inner" style="box-sizing: border-box\; margin: 0px\; padding: 0px\; border: 0px\; outline: 0px\; text-size-adjust: 100%\; vertical-align: baseline\; background: transparent\; position: relative\;">\n<h3 style="font-weight: bold\; line-height: 1.2em\; box-sizing: border-box\; margin: 0px\; padding: 0px 0px 10px\; border: 0px\; outline: 0px\; font-size: 22px\; text-size-adjust: 100%\; vertical-align: baseline\; background: transparent\; color: rgb(0\, 40\, 85)\; font-family: Montserrat\, Helvetica\, Arial\, Lucida\, sans-serif\;"><span style="font-family: verdana\;"><span style="font-size: 14px\;"><strong style="box-sizing: border-box\; margin: 0px\; padding: 0px\; border: 0px\; outline: 0px\; text-size-adjust: 100%\; vertical-align: baseline\; background: transparent\;">Urbandale Chamber Group 401K Program</strong></span></span></h3>\n\n<p style="box-sizing: border-box\; margin: 0px\; padding: 0px\; border: 0px\; outline: 0px\; text-size-adjust: 100%\; vertical-align: baseline\; background: transparent\;"><span style="font-family: verdana\;"><span style="font-size: 14px\;">If you have an existing 401k or looking to start one\, this is for you! Employers looking to hire &amp\; retain great employees provide great benefits important to those employees. One important benefit is to provide retirement savings options\, such as a 401k.&nbsp\; We&rsquo\;ve partnered with RockWay Wealth Partners\, Voya\, and Qualified Plan Consultants to offer an attractive 401k &amp\; Profit Sharing Retirement Plan solution exclusively for Urbandale Chamber members.&nbsp\; This Urbandale Chamber Exclusive Program can provide a great customized plan design that can help save cost and help relieve members of certain fiduciary DOL/IRS responsibilities and risks!</span></span></p>\n\n<div><br />\n<span style="font-family: verdana\;"><span style="font-size: 14px\;">Learn More during&nbsp\;our informational sessions scheduled&nbsp\;<a href="https://businesses.uniquelyurbandale.com/events/details/chamber-exclusive-benefits-session-13000"><span style="color: rgb(0\, 0\, 255)\;">April 12th from 11:30 - 12:30 p.m.</span></a>&nbsp\; Lunch is included.&nbsp\; Registration is requested.</span></span></div>\n</div>\n</div>\n</div>\n
LOCATION:Urbandale Chamber of Commerce Aisha R. Syed Board Room REALTOR | Iowa Realty 2830 100th St.\, Ste. 110 Urbandale\, IA 50322
UID:e.1185.13000
SEQUENCE:3
DTSTAMP:20260422T103800Z
URL:http://business.uniquelyurbandale.com/events/details/chamber-exclusive-benefits-session-13000
END:VEVENT

END:VCALENDAR
