BEGIN:VCALENDAR
VERSION:2.0
PRODID:-//ChamberMaster//Event Calendar 2.0//EN
METHOD:PUBLISH
X-PUBLISHED-TTL:P3D
REFRESH-INTERVAL:P3D
CALSCALE:GREGORIAN
BEGIN:VEVENT
DTSTART:20230621T210000Z
DTEND:20230622T230000Z
X-MICROSOFT-CDO-ALLDAYEVENT:FALSE
SUMMARY:Celebrating 40 Years! Upper Iowa University of Des Moines Open House
DESCRIPTION:We are hosting an Informational Open House to Celebrate 40 Years in Des Moines!\n\n\n\nInterested in earning your degree? Then this event is for you! Flexible associate\, bachelor's\, and master's degrees\, minors\, and certificates are available. Want to focus on fewer classes? The Two-at-a-Time schedule at Upper Iowa University means you take only two courses at once during each 8-week session. High school graduate\, transfer student\, working adult\, active military or veteran? No matter your path\, we'll help you navigate the UIU admissions and financial aid process.\n\n\n	Learn how to further your education and career opportunities\n	Discover all the degree programs and course options that UIU has to offer\n	Tour our facility and meet the Des Moines staff\n	Learn about the next steps to becoming a UIU student\n	Speak with an advisor and begin your admissions process
X-ALT-DESC;FMTTYPE=text/html:<div><span style="font-size:12.0pt">We are hosting an Informational Open House to Celebrate 40 Years in Des Moines!<br />\n<br />\nInterested in earning your degree? Then this event is for you! Flexible associate\, bachelor&rsquo\;s\, and master&rsquo\;s degrees\, minors\, and certificates are available.&nbsp\;</span><span style="font-size:12.0pt">Want to focus on fewer classes? The Two-at-a-Time schedule at Upper Iowa University means you take only two courses at once during each 8-week session.</span> <span style="font-size:12.0pt">High school graduate\, transfer student\, working adult\, active military or veteran? No matter your path\, we&rsquo\;ll help you navigate the UIU admissions and financial aid process.</span></div>\n\n<ul>\n	<li><span style="font-size:12.0pt">Learn how to further your education and career opportunities</span></li>\n	<li><span style="font-size:12.0pt">Discover all the degree programs and course options that UIU has to offer</span></li>\n	<li><span style="font-size:12.0pt">Tour our facility and meet the Des Moines staff</span></li>\n	<li><span style="font-size:12.0pt">Learn about the next steps to becoming a UIU student</span></li>\n	<li><span style="font-size:12.0pt">Speak with an advisor and begin your admissions process</span></li>\n</ul>\n
LOCATION:5000 Westown Parkway\, Suite 200
UID:e.1185.13065
SEQUENCE:3
DTSTAMP:20260422T074738Z
URL:http://business.uniquelyurbandale.com/events/details/celebrating-40-years-upper-iowa-university-of-des-moines-open-house-13065
END:VEVENT

END:VCALENDAR
