BEGIN:VCALENDAR
VERSION:2.0
PRODID:-//ChamberMaster//Event Calendar 2.0//EN
METHOD:PUBLISH
X-PUBLISHED-TTL:P3D
REFRESH-INTERVAL:P3D
CALSCALE:GREGORIAN
BEGIN:VEVENT
DTSTART:20221005T220000Z
DTEND:20221005T233000Z
X-MICROSOFT-CDO-ALLDAYEVENT:FALSE
SUMMARY:Caravel Autism Health Grand Opening & Ribbon Cutting
DESCRIPTION:Join us in celebrating Caravel Autism Health Grand Opening & Ribbon Cutting event.\n\n\n\nCaravel Autism Health provides ABA services to families. They are excited to be able to offer services in the local community to families and children with autism and related developmental disabilities. Refreshments will be served.
X-ALT-DESC;FMTTYPE=text/html:<strong><span style="color: rgb(0\, 0\, 255)\;"><span style="font-size: 20px\;">Join us in celebrating Caravel Autism Health Grand Opening &amp\; Ribbon Cutting event.</span></span></strong><br />\n<br />\nCaravel Autism Health provides ABA services to families. They are excited to be able to offer services in the local community to families and children with autism and related developmental disabilities. Refreshments will be served.
LOCATION:2439 106th St. Urbandale\, IA 50322
UID:e.1185.12630
SEQUENCE:3
DTSTAMP:20260422T185355Z
URL:http://business.uniquelyurbandale.com/events/details/caravel-autism-health-grand-opening-ribbon-cutting-12630
END:VEVENT

END:VCALENDAR
