BEGIN:VCALENDAR
VERSION:2.0
PRODID:-//ChamberMaster//Event Calendar 2.0//EN
METHOD:PUBLISH
X-PUBLISHED-TTL:P3D
REFRESH-INTERVAL:P3D
CALSCALE:GREGORIAN
BEGIN:VEVENT
DTSTART:20230502T220000Z
DTEND:20230503T000000Z
X-MICROSOFT-CDO-ALLDAYEVENT:FALSE
SUMMARY:Cajun Belle One Year Anniversary Ribbon Cutting
DESCRIPTION:Join the Urbandale & Johnston Chambers in celebrating Cajun Belle's One Year Anniversary Ribbon Cutting\n\n\n\ncajun belle is turning one year old and they are celebrating getting through their first year with a crawfish boil.\n\n\n\nCome out and enjoy the food\, fun\, community and networking!
X-ALT-DESC;FMTTYPE=text/html:<strong style="color: rgb(75\, 0\, 130)\;"><span style="font-size: 20px\;">Join the Urbandale &amp\; Johnston Chambers in celebrating Cajun Belle&#39\;s One Year Anniversary Ribbon Cutting</span></strong><br />\n<br />\n<font color="#000080" face="tahoma"><span style="font-size: 14px\;">cajun belle is turning one year old and they are celebrating getting through their first year with a <em><strong>crawfish boil</strong></em>.<br />\n<br />\nCome out and enjoy the food\, fun\, community and networking!&nbsp\;</span></font>
LOCATION:cajun belle 5460 Merle Hay Rd.\, Ste. A Johnston\, IA 50131
UID:e.1185.13021
SEQUENCE:3
DTSTAMP:20260422T090836Z
URL:http://business.uniquelyurbandale.com/events/details/cajun-belle-one-year-anniversary-ribbon-cutting-13021
END:VEVENT

END:VCALENDAR
