BEGIN:VCALENDAR
VERSION:2.0
PRODID:-//ChamberMaster//Event Calendar 2.0//EN
METHOD:PUBLISH
X-PUBLISHED-TTL:P3D
REFRESH-INTERVAL:P3D
CALSCALE:GREGORIAN
BEGIN:VEVENT
DTSTART:20250313T143000Z
DTEND:20250313T153000Z
X-MICROSOFT-CDO-ALLDAYEVENT:FALSE
SUMMARY:Building Better Personal Habits - Habit 2 Begin with the End in Mind
DESCRIPTION:Habit 2: Begin with the End in Mind\n\nThis powerful presentation dives into the importance of envisioning your goals and aligning your actions to achieve them. Based on Stephen Covey's timeless principles\, we'll explore how to define a clear purpose\, create a personal or professional mission statement\, and make intentional decisions that lead to long-term success. Walk away with tools to build a future you truly desire.
X-ALT-DESC;FMTTYPE=text/html:<strong>Habit 2: Begin with the End in Mind</strong><br />\nThis powerful presentation dives into the importance of envisioning your goals and aligning your actions to achieve them. Based on Stephen Covey&#39\;s timeless principles\, we&rsquo\;ll explore how to define a clear purpose\, create a personal or professional mission statement\, and make intentional decisions that lead to long-term success. Walk away with tools to build a future you truly desire.
LOCATION:Online Sign up at: https://www.claritybusinesscoach.com/clarity-business-coaching-events/2nd-of-the-7-habits-of-highly-effective-people
UID:e.1185.16696
SEQUENCE:3
DTSTAMP:20260421T055843Z
URL:http://business.uniquelyurbandale.com/events/details/building-better-personal-habits-habit-2-begin-with-the-end-in-mind-16696
END:VEVENT

END:VCALENDAR
