BEGIN:VCALENDAR
VERSION:2.0
PRODID:-//ChamberMaster//Event Calendar 2.0//EN
METHOD:PUBLISH
X-PUBLISHED-TTL:P3D
REFRESH-INTERVAL:P3D
CALSCALE:GREGORIAN
BEGIN:VEVENT
DTSTART:20240114T190000Z
DTEND:20240114T220000Z
X-MICROSOFT-CDO-ALLDAYEVENT:FALSE
SUMMARY:Breathe! A Creative Vision Board Party
DESCRIPTION:Join other caring\, passionate women on Sunday\, Jan. 14\, 2024\, at a guided vision board event that will show you how to set goals for the new year and stick with your New Years Resolutions.\n\n"Come\, sit at our table\, side by side with other women\, and create your vision for a beautiful life\," said Suzanne Ryan\, financial coach and owner of T&H Financial Coaching\, which is hosting the event. "You'll feel inspired\, hopeful\, and supported in accomplishing the vision you've created on the board."\n\nThe vision board process is a hands-on empowering experience that will visually display your goals and make you 85% more likely to achieve them.\n\nProfessionals who specialize in helping others with common New Years Resolutions or goals will be at the event to share their expertise and answer questions. Common resolutions include organizing your finances\, improving your health\, taking the next step in your career\, organizing your home\, and focusing on your personal and spiritual growth.\n\nTickets are $45 and include a signature mocktail and light refreshments. Vision board supplies will be provided. Register online at https://loveyourfinances.as.me/BREATHE2024.
X-ALT-DESC;FMTTYPE=text/html:Join other caring\, passionate women on Sunday\, Jan. 14\, 2024\, at a guided vision board event that will show you how to set goals for the new year and stick with your New Years Resolutions.<br />\n&ldquo\;Come\, sit at our table\, side by side with other women\, and create your vision for a beautiful life\,&rdquo\; said Suzanne Ryan\, financial coach and owner of T&amp\;H Financial Coaching\, which is hosting the event. &ldquo\;You&rsquo\;ll feel inspired\, hopeful\, and supported in accomplishing the vision you&rsquo\;ve created on the board.&rdquo\;<br />\nThe vision board process is a hands-on empowering experience that will visually display your goals and make you 85% more likely to achieve them.<br />\nProfessionals who specialize in helping others with common New Years Resolutions or goals will be at the event to share their expertise and answer questions. Common resolutions include organizing your finances\, improving your health\, taking the next step in your career\, organizing your home\, and focusing on your personal and spiritual growth.<br />\nTickets are $45 and include a signature mocktail and light refreshments. Vision board supplies will be provided. Register online at <a href="https://loveyourfinances.as.me/BREATHE2024">https://loveyourfinances.as.me/BREATHE2024</a>.<br />\n&nbsp\;
LOCATION:Raccoon River Park Nature Lodge 2500 Grand Ave West Des Moines\, IA 50265
UID:e.1185.13669
SEQUENCE:3
DTSTAMP:20260421T181610Z
URL:http://business.uniquelyurbandale.com/events/details/breathe-a-creative-vision-board-party-13669
END:VEVENT

END:VCALENDAR
