BEGIN:VCALENDAR
VERSION:2.0
PRODID:-//ChamberMaster//Event Calendar 2.0//EN
METHOD:PUBLISH
X-PUBLISHED-TTL:P3D
REFRESH-INTERVAL:P3D
CALSCALE:GREGORIAN
BEGIN:VEVENT
DTSTART:20230518T203000Z
DTEND:20230518T223000Z
X-MICROSOFT-CDO-ALLDAYEVENT:FALSE
SUMMARY:Boyd Jones New Location Ribbon Cutting
DESCRIPTION:Join the Urbandale Chamber as we celebrate the opening of a new Boyd Jones office with a Ribbon Cutting!\n\n\n\nBoyd Jones is a full service commercial construction firm. They focus on building solutions that deliver the greatest value for clients - from feasibility to preconstruction\, on through construction and continued support.
X-ALT-DESC;FMTTYPE=text/html:<strong style="color: rgb(75\, 0\, 130)\;"><span style="font-size: 20px\;">Join the Urbandale Chamber as we celebrate the opening of a new Boyd Jones office with a Ribbon Cutting!</span></strong><br />\n<br />\n<span style="font-size:16px\;"><span style="font-family:tahoma\;">Boyd Jones is a full service commercial construction firm. They focus on building solutions that deliver the greatest value for clients - from feasibility to preconstruction\, on through construction and continued support.</span></span>
LOCATION:Boyd Jones 11204 Aurora Ave. Urbandale\, IA 50322 In Google the physical address (11204 Aurora Ave) is close\, but inaccurate. Search "Boyd Jones Urbandale" for the correct location. Keep an eye out for signage guiding you to the Boyd Jones office within the business park. Click on view a map below for a picture of the business park and adjoining streets.
UID:e.1185.13027
SEQUENCE:3
DTSTAMP:20260422T090948Z
URL:http://business.uniquelyurbandale.com/events/details/boyd-jones-new-location-ribbon-cutting-13027
END:VEVENT

END:VCALENDAR
