BEGIN:VCALENDAR
VERSION:2.0
PRODID:-//ChamberMaster//Event Calendar 2.0//EN
METHOD:PUBLISH
X-PUBLISHED-TTL:P3D
REFRESH-INTERVAL:P3D
CALSCALE:GREGORIAN
BEGIN:VEVENT
DTSTART:20240218T010000Z
DTEND:20240218T030000Z
X-MICROSOFT-CDO-ALLDAYEVENT:FALSE
SUMMARY:BEATLEMANIA NOW- BEATLES TRIBUTE
DESCRIPTION:Enjoy Beatlemania Now in the Finish Line Show Lounge. Tickets on sale in the Prairie Meadows Gift Shop\, while supplies last.\n\nBeatlemania Now includes songs such as "She Loves You"\, "Yesterday"\, "I Want To Hold Your Hand"\, "Hey Jude"\, and more! Don't miss your chance to experience the powerful history of The Beatles era.
X-ALT-DESC;FMTTYPE=text/html:<p>Enjoy Beatlemania Now in the Finish Line Show Lounge. Tickets on sale in the Prairie Meadows Gift Shop\, while supplies last.</p>\n\n<p>Beatlemania Now includes songs such as &ldquo\;She Loves You&rdquo\;\, &ldquo\;Yesterday&rdquo\;\, &ldquo\;I Want To Hold Your Hand&rdquo\;\, &ldquo\;Hey Jude&rdquo\;\, and more! Don&rsquo\;t miss your chance to experience the powerful history of The Beatles era.</p>\n
LOCATION:Prairie Meadows Racetrack and Casino Finish Line Show Lounge (casino level 2)
UID:e.1185.13630
SEQUENCE:3
DTSTAMP:20260421T165900Z
URL:http://business.uniquelyurbandale.com/events/details/beatlemania-now-beatles-tribute-13630
END:VEVENT

END:VCALENDAR
