BEGIN:VCALENDAR
VERSION:2.0
PRODID:-//ChamberMaster//Event Calendar 2.0//EN
METHOD:PUBLISH
X-PUBLISHED-TTL:P3D
REFRESH-INTERVAL:P3D
CALSCALE:GREGORIAN
BEGIN:VEVENT
DTSTART:20220513T223000Z
DTEND:20220514T000000Z
X-MICROSOFT-CDO-ALLDAYEVENT:FALSE
SUMMARY:Be Inspired DSM 2022 Concert For A Cause with: NICHOLE NORDEMAN
DESCRIPTION:If you don't have the opportunity to spend the day with us at the Be Inspired DSM retreat (www.beinspireddsm.com)\, join us for a night of inspiration with the one and only Nichole Nordeman\, winner of 9 dove awards\, a grammy nomination and 6 number ONE singles! Her beautiful voice and the power of her songwriting will captivate your heart. Fifty percent of the proceeds will be donated to our non-profit partners that you can find on the event website. Registration and payment REQUIRED for entry! $25 GET YOUR TICKETS: www.beinspireddsm.com/concert
X-ALT-DESC;FMTTYPE=text/html:If you don&#39\;t have the opportunity to spend the day with us at the Be Inspired DSM retreat (www.beinspireddsm.com)\, join us for a night of inspiration with the one and only Nichole Nordeman\, winner of 9 dove awards\, a grammy nomination and 6 number ONE singles! Her beautiful voice and the power of her songwriting will captivate your heart. Fifty percent of the proceeds will be donated to our non-profit partners that you can find on the event website. Registration and payment REQUIRED for entry! $25 GET YOUR TICKETS: www.beinspireddsm.com/concert
LOCATION:Franklin Jr High Event Center in Des Moines\, IA.
UID:e.1185.12518
SEQUENCE:3
DTSTAMP:20260423T023715Z
URL:http://business.uniquelyurbandale.com/events/details/be-inspired-dsm-2022-concert-for-a-cause-with-nichole-nordeman-12518
END:VEVENT

END:VCALENDAR
