BEGIN:VCALENDAR
VERSION:2.0
PRODID:-//ChamberMaster//Event Calendar 2.0//EN
METHOD:PUBLISH
X-PUBLISHED-TTL:P3D
REFRESH-INTERVAL:P3D
CALSCALE:GREGORIAN
BEGIN:VEVENT
DTSTART:20240928T160000Z
DTEND:20240928T180000Z
X-MICROSOFT-CDO-ALLDAYEVENT:FALSE
SUMMARY:Back2School Bash/3-Year Anniversary Celebration
DESCRIPTION:Kidz Corner is having a Back2School Bash/3-Year Anniversary Celebration! This is a free event to the public with food\, games\, bouncy houses and more!
X-ALT-DESC;FMTTYPE=text/html:Kidz Corner is having a Back2School Bash/3-Year Anniversary Celebration! This is a free event to the public with food\, games\, bouncy houses and more!
LOCATION:Kidz Corner Playground 2957 86th St. Urbandale\, IA 50322
UID:e.1185.15696
SEQUENCE:3
DTSTAMP:20260421T074407Z
URL:http://business.uniquelyurbandale.com/events/details/back2school-bash-3-year-anniversary-celebration-15696
END:VEVENT

END:VCALENDAR
