BEGIN:VCALENDAR
VERSION:2.0
PRODID:-//ChamberMaster//Event Calendar 2.0//EN
METHOD:PUBLISH
X-PUBLISHED-TTL:P3D
REFRESH-INTERVAL:P3D
CALSCALE:GREGORIAN
BEGIN:VEVENT
DTSTART:20240914T140000Z
DTEND:20240914T210000Z
X-MICROSOFT-CDO-ALLDAYEVENT:FALSE
SUMMARY:Applefest
DESCRIPTION:Everything's coming up   apples! Saturday\, September 14   9 a.m.-4 p.m. All activities included with General Admission   Advance tickets recommended Join us for a day of family fun celebrating apple harvest season! Visit our historic sites to see how past cooks would prepare and serve apple treats\, such as apple butter\, cake or pie\, and cider. Print an apple recipe in the Print Shop\, and purchase apple goodies and tasty treats from local food vendors. Your ticket is for your arrival time. Once here\, you may stay as long as you like. Last tractor cart to the farm sites leaves at 2 p.m.
X-ALT-DESC;FMTTYPE=text/html:Everything&rsquo\;s coming up &hellip\; apples! Saturday\, September 14 &bull\; 9 a.m.-4 p.m. All activities included with General Admission &bull\; Advance tickets recommended Join us for a day of family fun celebrating apple harvest season! Visit our historic sites to see how past cooks would prepare and serve apple treats\, such as apple butter\, cake or pie\, and cider. Print an apple recipe in the Print Shop\, and purchase apple goodies and tasty treats from local food vendors. Your ticket is for your arrival time. Once here\, you may stay as long as you like. Last tractor cart to the farm sites leaves at 2 p.m.
LOCATION:Living History Farms 11121 Hickman Rd Urbandale\, IA
UID:e.1185.15017
SEQUENCE:3
DTSTAMP:20260421T073839Z
URL:http://business.uniquelyurbandale.com/events/details/applefest-15017
END:VEVENT

END:VCALENDAR
