BEGIN:VCALENDAR
VERSION:2.0
PRODID:-//ChamberMaster//Event Calendar 2.0//EN
METHOD:PUBLISH
X-PUBLISHED-TTL:P3D
REFRESH-INTERVAL:P3D
CALSCALE:GREGORIAN
BEGIN:VEVENT
DTSTART:20231121T180000Z
DTEND:20231121T200000Z
X-MICROSOFT-CDO-ALLDAYEVENT:FALSE
SUMMARY:Abundant Health Massage & Bodywork Ribbon Cutting Ceremony
DESCRIPTION:Join the Urbandale and Ankeny Chamber in celebrating the Ribbon Cutting Ceremony of Abundant Health Massage & Bodywork in Ankeny!\n\n \n\n\n	\n		\n			Abundant Health along with Ankeny Chamber!\n\n			It's been a great journey and we are very grateful of Urbandale Chamber's amazing support for the past year!\n\n			(Complimentary Express Massage\, snacks and drinks\, raffle tickets with gift cards)
X-ALT-DESC;FMTTYPE=text/html:<strong style=""><font color="#4b0082"><span style="font-size: 20px\;">Join the Urbandale and Ankeny Chamber in celebrating the Ribbon Cutting Ceremony of Abundant Health Massage &amp\; Bodywork in Ankeny!</span></font></strong><br />\n&nbsp\;\n<div style="text-align: start\;">\n<table border="0" cellpadding="0" cellspacing="0" style="width:100.0%\;background:white\;" width="100%">\n	<tbody>\n		<tr>\n			<td style="padding:2.5pt 2.5pt 2.5pt 2.5pt\;"><span style="font-size:14px\;"><span style="font-family:arial\;">Abundant Health along with Ankeny Chamber!<br />\n			It&#39\;s been a great journey and we are very grateful of Urbandale Chamber&#39\;s amazing support for the past year!<br />\n			(Complimentary Express Massage\, snacks and drinks\, raffle tickets with gift cards)</span></span></td>\n		</tr>\n	</tbody>\n</table>\n</div>\n\n<div style="text-align: start\;">&nbsp\;</div>\n
LOCATION:Abundant Health Massage & Bodywork 1802 SE Delaware Ave. Ste. 107 Ankeny\, IA 50021
UID:e.1185.13238
SEQUENCE:3
DTSTAMP:20260421T223434Z
URL:http://business.uniquelyurbandale.com/events/details/abundant-health-massage-bodywork-ribbon-cutting-ceremony-13238
END:VEVENT

END:VCALENDAR
