BEGIN:VCALENDAR
VERSION:2.0
PRODID:-//ChamberMaster//Event Calendar 2.0//EN
METHOD:PUBLISH
X-PUBLISHED-TTL:P3D
REFRESH-INTERVAL:P3D
CALSCALE:GREGORIAN
BEGIN:VEVENT
DTSTART:20231030T150000Z
DTEND:20231030T170000Z
X-MICROSOFT-CDO-ALLDAYEVENT:FALSE
SUMMARY:Abundant Health Massage & Bodywork Open House
DESCRIPTION:Abundant Health Massage & Bodywork - Ankeny is pleased to announce its Grand Opening on Monday\, October 30th from 10am to 12pm. We invite you to join us at Abundant Health for a restorative massage and facial\, providing the perfect opportunity to release stress and alleviate discomfort\, leaving you feeling revitalized. Furthermore\, we kindly request your presence at our open house\, where you will have the chance to enjoy a complimentary massage\, participate in our raffle and potentially win exciting prizes\, also snacks from Cajun Belle! Experience the ultimate well-being and embrace a higher quality of life. Costume is welcomed!
X-ALT-DESC;FMTTYPE=text/html:<br />\n<span style="background-color:rgb(255\, 255\, 255)\; color:rgb(34\, 34\, 34)\; font-family:arial\,helvetica\,sans-serif\; font-size:small">Abundant Health Massage &amp\; Bodywork - Ankeny is pleased to announce its Grand Opening on Monday\, October 30th from 10am to 12pm. We invite you to join us at Abundant Health for a restorative massage and facial\, providing the perfect opportunity to release stress and alleviate discomfort\, leaving you feeling revitalized. Furthermore\, we kindly request your presence at our open house\, where you will have the chance to enjoy a complimentary massage\, participate in our raffle and potentially win exciting prizes\, also snacks from Cajun Belle! Experience the ultimate well-being and embrace a higher quality of life.&nbsp\;</span><span style="color:rgb(34\, 34\, 34)\; font-family:arial\,helvetica\,sans-serif\; font-size:small">Costume is welcomed!</span>
LOCATION:1802 SE Delaware Ave Ste 107\, Ankeny IA 50021
UID:e.1185.13237
SEQUENCE:3
DTSTAMP:20260421T230229Z
URL:http://business.uniquelyurbandale.com/events/details/abundant-health-massage-bodywork-open-house-13237
END:VEVENT

END:VCALENDAR
