BEGIN:VCALENDAR
VERSION:2.0
PRODID:-//ChamberMaster//Event Calendar 2.0//EN
METHOD:PUBLISH
X-PUBLISHED-TTL:P3D
REFRESH-INTERVAL:P3D
CALSCALE:GREGORIAN
BEGIN:VEVENT
DTSTART:20240107T010000Z
DTEND:20240107T030000Z
X-MICROSOFT-CDO-ALLDAYEVENT:FALSE
SUMMARY:A TRIBUTE TO ELVIS - RICK ALVITI’S “THAT’S THE WAY IT WAS”
DESCRIPTION:Enjoy RICK ALVITI'S "THAT'S THE WAY IT WAS"   A TRIBUTE TO ELVIS in the Finish Line Show Lounge. Tickets on sale now in the Prairie Meadows Gift Shop\, while supplies last.\n\nExperience the magic that crowned Elvis the King of Rock & Roll. This high-energy tribute featuring audience participation\, will transport you back in time as you reminisce on the Elvis era. Don't miss your chance to relive the iconic Elvis hits.
X-ALT-DESC;FMTTYPE=text/html:<p>Enjoy RICK ALVITI&rsquo\;S &ldquo\;THAT&rsquo\;S THE WAY IT WAS&rdquo\; &ndash\; A TRIBUTE TO ELVIS in the Finish Line Show Lounge. Tickets on sale now in the Prairie Meadows Gift Shop\, while supplies last.</p>\n\n<p>Experience the magic that crowned Elvis the King of Rock &amp\; Roll. This high-energy tribute featuring audience participation\, will transport you back in time as you reminisce on the Elvis era. Don&rsquo\;t miss your chance to relive the iconic Elvis hits.</p>\n
LOCATION:Prairie Meadows Racetrack and Casino Finish Line Show Lounge (Casino Level 2)
UID:e.1185.13629
SEQUENCE:3
DTSTAMP:20260421T182124Z
URL:http://business.uniquelyurbandale.com/events/details/a-tribute-to-elvis-rick-alviti-s-that-s-the-way-it-was-13629
END:VEVENT

END:VCALENDAR
