BEGIN:VCALENDAR
VERSION:2.0
PRODID:-//ChamberMaster//Event Calendar 2.0//EN
METHOD:PUBLISH
X-PUBLISHED-TTL:P3D
REFRESH-INTERVAL:P3D
CALSCALE:GREGORIAN
BEGIN:VEVENT
DTSTART:20230926T153000Z
DTEND:20230926T173000Z
X-MICROSOFT-CDO-ALLDAYEVENT:FALSE
SUMMARY:6 Steps to a Better Business
DESCRIPTION:Do you want to make more money?\n\nDo you want control of your time?\n\nDo you want to find and keep good people on your team?\n\nInvest in yourself and your business.\n\nYou will learn how to work ON your business\, not IN it. You will learn how to turn your advertising and marketing into an investment instead of an expense. You will learn how to leverage your time to maximize efficiency and profits. And you will learn how to recruit\, motivate\, educate and retain exceptional employees.
X-ALT-DESC;FMTTYPE=text/html:Do you want to make more money?<br />\nDo you want control of your time?<br />\nDo you want to find and keep good people on your team?<br />\nInvest in yourself and your business.<br />\nYou will learn how to work ON your business\, not IN it. You will learn how to turn your advertising and marketing into an investment instead of an expense. You will learn how to leverage your time to maximize efficiency and profits. And you will learn how to recruit\, motivate\, educate and retain exceptional employees.<br />\n&nbsp\;
LOCATION:GreenState Credit Union Board Room 12333 University Ave\, Clive\, IA 50325
UID:e.1185.13154
SEQUENCE:3
DTSTAMP:20260422T002803Z
URL:http://business.uniquelyurbandale.com/events/details/6-steps-to-a-better-business-13154
END:VEVENT

END:VCALENDAR
