BEGIN:VCALENDAR
VERSION:2.0
PRODID:-//ChamberMaster//Event Calendar 2.0//EN
METHOD:PUBLISH
X-PUBLISHED-TTL:P3D
REFRESH-INTERVAL:P3D
CALSCALE:GREGORIAN
BEGIN:VEVENT
DTSTART:20230310T210000Z
DTEND:20230310T220000Z
X-MICROSOFT-CDO-ALLDAYEVENT:FALSE
SUMMARY:5 Borough Bagels Grand Opening & Ribbon Cutting
DESCRIPTION:Join the Urbandale and the Clive Chambers in celebrating 5 Borough Bagels Grand Opening & Ribbon Cutting\n\n\n\nAn idea seven years in the making. This is the grand opening of their second metro location. If you haven't tried 5 Borough Bagels in Clive - you are in for a treat!! They offer 12 delicious NY style bagel flavors and 12 house-made cream cheeses that are blended daily with all fresh ingredients.
X-ALT-DESC;FMTTYPE=text/html:<strong style="color: rgb(75\, 0\, 130)\;"><span style="font-size: 20px\;">Join the Urbandale and the Clive Chambers in celebrating&nbsp\;5 Borough Bagels Grand Opening &amp\; Ribbon Cutting</span></strong><br />\n<br />\n<span style="color: rgb(0\, 0\, 128)\;"><span style="font-size: 16px\;"><span style="font-family: tahoma\;">An idea seven years in the making. This is the grand opening of their second metro location. If you haven&#39\;t tried 5 Borough Bagels in Clive - you are in for a treat!! They offer 12 delicious NY style bagel flavors and 12 house-made cream cheeses that are blended daily with all fresh ingredients.&nbsp\;</span></span></span>
LOCATION:5 Borough Bagels 11101 Plum Dr. Urbandale\, IA 50322
UID:e.1185.12998
SEQUENCE:3
DTSTAMP:20260422T122141Z
URL:http://business.uniquelyurbandale.com/events/details/5-borough-bagels-grand-opening-ribbon-cutting-12998
END:VEVENT

END:VCALENDAR
