BEGIN:VCALENDAR
VERSION:2.0
PRODID:-//ChamberMaster//Event Calendar 2.0//EN
METHOD:PUBLISH
X-PUBLISHED-TTL:P3D
REFRESH-INTERVAL:P3D
CALSCALE:GREGORIAN
BEGIN:VEVENT
DTSTART:20240517T163000Z
DTEND:20240517T180000Z
X-MICROSOFT-CDO-ALLDAYEVENT:FALSE
SUMMARY:26th Annual Women Helping Women Luncheon
DESCRIPTION:Mind & Spirit Counseling Center is pleased to announce the four exceptional women leading the festivities at the 26th Annual Women Helping Women luncheon event. Each brings a unique perspective to the fundraiser focused on raising funds to support mental health counseling\, education\, training\, and other services that impact women\, children\, and families who are uninsured or underinsured. They and the event's actively involved volunteer planning committee look to provide 500+ guests with inspiration and hope while raising $250\,000 for women and girls. The event is scheduled for Friday\, May 17\, at the Meadows Events Center at Prairie Meadows. Honoree - Carol Bodensteiner Speaker - Teri Hughes-Paulline\, LISW Co-chairs: -Leigh OTool -Shirley Poertner
X-ALT-DESC;FMTTYPE=text/html:Mind &amp\; Spirit Counseling Center is pleased to announce the four exceptional women leading the festivities at the 26th Annual Women Helping Women luncheon event. Each brings a unique perspective to the fundraiser focused on raising funds to support mental health counseling\, education\, training\, and other services that impact women\, children\, and families who are uninsured or underinsured. They and the event&rsquo\;s actively involved volunteer planning committee look to provide 500+ guests with inspiration and hope while raising $250\,000 for women and girls. The event is scheduled for Friday\, May 17\, at the Meadows Events Center at Prairie Meadows. Honoree - Carol Bodensteiner Speaker - Teri Hughes-Paulline\, LISW Co-chairs: -Leigh OTool -Shirley Poertner
LOCATION:Meadows Events Center at Prairie Meadows
UID:e.1185.15022
SEQUENCE:3
DTSTAMP:20260421T130441Z
URL:http://business.uniquelyurbandale.com/events/details/26th-annual-women-helping-women-luncheon-15022
END:VEVENT

END:VCALENDAR
