BEGIN:VCALENDAR
VERSION:2.0
PRODID:-//ChamberMaster//Event Calendar 2.0//EN
METHOD:PUBLISH
X-PUBLISHED-TTL:P3D
REFRESH-INTERVAL:P3D
CALSCALE:GREGORIAN
BEGIN:VEVENT
DTSTART:20240126T140000Z
DTEND:20240126T150000Z
X-MICROSOFT-CDO-ALLDAYEVENT:FALSE
SUMMARY:2024 New Member Coffee Club - EXCLUSIVE GROUP
DESCRIPTION:Are you a new member since January 1\, 2024? This EXCLUSIVE New Member Coffee Club is JUST FOR YOU! Only new members after January 1\, 2024 can attend this event and we highly encourage you to do so! \n\n\n\nJoin Connectors\, Chamber Staff and other new chamber members for coffee on the last Friday of each month at Hotel Renovo. This is a great opportunity to start building your network\, meet your assigned Connector and kickstart your chamber membership...the right way! \n\n\n\nIn this exclusive event\, you can attend each month's New Member Coffee Club in 2024! We can't wait to start getting to know you and your business! \n\n\n\n2024 New Member Coffee Club Dates: \n\nJanuary 26\n\nFebruary 23\n\nMarch 29\n\nApril 26\n\nMay 31\n\nJune 28\n\nJuly 26\n\nAugust 30\n\nSeptember 27\n\nOctober 25\n\nNovember 22\n\nDecember 20
X-ALT-DESC;FMTTYPE=text/html:<span style="font-size:14px\;"><span style="font-family:arial\;">Are you a new member since January 1\, 2024? This EXCLUSIVE New Member Coffee Club is JUST FOR YOU! Only new members after January 1\, 2024 can attend this event and we highly encourage you to do so!&nbsp\;<br />\n<br />\nJoin Connectors\, Chamber Staff and other new chamber members for coffee on the last Friday of each month at Hotel Renovo. This is a great opportunity to start building your network\, meet your assigned Connector and kickstart your chamber membership...the right way!&nbsp\;<br />\n<br />\nIn this exclusive event\, you can attend each month&#39\;s New Member Coffee Club in 2024! We can&#39\;t wait to start getting to know you and your business!&nbsp\;<br />\n<br />\n<strong>2024 New Member Coffee Club Dates:&nbsp\;</strong><br />\nJanuary 26<br />\nFebruary 23<br />\nMarch 29<br />\nApril 26<br />\nMay 31<br />\nJune 28<br />\nJuly 26<br />\nAugust 30<br />\nSeptember 27<br />\nOctober 25<br />\nNovember 22<br />\nDecember 20</span></span><br />\n<br />\n&nbsp\;
LOCATION:Hotel Renovo 11167 Hickman Rd. Urbandale\, IA 50322
UID:e.1185.14734
SEQUENCE:3
DTSTAMP:20260421T181937Z
URL:http://business.uniquelyurbandale.com/events/details/2024-new-member-coffee-club-exclusive-group-14734
END:VEVENT

END:VCALENDAR
